BEGIN:VCALENDAR
VERSION:2.0
PRODID:-//ChamberMaster//Event Calendar 2.0//EN
METHOD:PUBLISH
X-PUBLISHED-TTL:P3D
REFRESH-INTERVAL:P3D
CALSCALE:GREGORIAN
BEGIN:VEVENT
DTSTART:20190301T000000Z
DTEND:20190301T013000Z
X-MICROSOFT-CDO-ALLDAYEVENT:FALSE
SUMMARY:Ice of the Planet
DESCRIPTION:Polar ice sheets and high-altitude glaciers retain memory of past climate change\, providing records that extend back almost 1 million years. At risk of disappearing due to glacial melting\, international research is now being conducted to salvage these precious archives. Paolo Gabrielli is a research scientist at Byrd Polar and Climate Research Center of The Ohio State University. His primary interest is the study of ice cores with emphasis on paleoenvironmental and paleoclimatic reconstructions.
X-ALT-DESC;FMTTYPE=text/html:Polar ice sheets and high-altitude glaciers retain memory of past climate change\, providing records that extend back almost 1 million years. At risk of disappearing due to glacial melting\, international research is now being conducted to salvage these precious archives. Paolo Gabrielli is a research scientist at Byrd Polar and Climate Research Center of The Ohio State University. His primary interest is the study of ice cores with emphasis on paleoenvironmental and paleoclimatic reconstructions.
LOCATION:Granville Public Library
UID:e.180.12438
SEQUENCE:3
DTSTAMP:20260420T022834Z
URL:http://business.granvilleoh.com/events/details/ice-of-the-planet-12438
END:VEVENT

END:VCALENDAR
