BEGIN:VCALENDAR
VERSION:2.0
PRODID:-//ChamberMaster//Event Calendar 2.0//EN
METHOD:PUBLISH
X-PUBLISHED-TTL:P3D
REFRESH-INTERVAL:P3D
CALSCALE:GREGORIAN
BEGIN:VEVENT
DTSTART:20180705T170000Z
DTEND:20180705T190000Z
X-MICROSOFT-CDO-ALLDAYEVENT:FALSE
SUMMARY:Instrument Petting Zoo
DESCRIPTION:Visit our instrument petting zoo with Mrs. Schnabel\, GHS Orchestra Teacher\, and her students for an opportunity touch and try string instruments! If it's raining\, we'll be located inside the Community Room.
X-ALT-DESC;FMTTYPE=text/html:Visit our instrument petting zoo with Mrs. Schnabel\, GHS Orchestra Teacher\, and her students for an opportunity touch and try string instruments! If it&#39\;s raining\, we&#39\;ll be located inside the Community Room.
LOCATION:Granville Public Library
UID:e.180.12077
SEQUENCE:3
DTSTAMP:20260419T182200Z
URL:http://business.granvilleoh.com/events/details/instrument-petting-zoo-12077
END:VEVENT

END:VCALENDAR
