BEGIN:VCALENDAR
VERSION:2.0
PRODID:-//ChamberMaster//Event Calendar 2.0//EN
METHOD:PUBLISH
X-PUBLISHED-TTL:P3D
REFRESH-INTERVAL:P3D
CALSCALE:GREGORIAN
BEGIN:VEVENT
DTSTART:20191108T223000Z
DTEND:20191109T003000Z
X-MICROSOFT-CDO-ALLDAYEVENT:FALSE
SUMMARY:International Board Games Week: Teen Board Game Night
DESCRIPTION:Join us for board games! Play old favorites or discover new ones. Snacks provided. For grades 7-12.
X-ALT-DESC;FMTTYPE=text/html:Join us for board games! Play old favorites or discover new ones. Snacks provided. For grades 7-12.
LOCATION:Granville Public Library
UID:e.180.13928
SEQUENCE:3
DTSTAMP:20260422T145413Z
URL:http://business.granvilleoh.com/events/details/international-board-games-week-teen-board-game-night-13928
END:VEVENT

END:VCALENDAR
