BEGIN:VCALENDAR
VERSION:2.0
PRODID:-//ChamberMaster//Event Calendar 2.0//EN
METHOD:PUBLISH
X-PUBLISHED-TTL:P3D
REFRESH-INTERVAL:P3D
CALSCALE:GREGORIAN
BEGIN:VEVENT
DTSTART:20181105T200000Z
DTEND:20181105T220000Z
X-MICROSOFT-CDO-ALLDAYEVENT:FALSE
SUMMARY:International Games Week
DESCRIPTION:Teens\, celebrate International Games Week at the library. Bring friends and stop by the Reference Desk in the Teen Department to borrow games. Play your favorite board game at the library! Grades 7-12.
X-ALT-DESC;FMTTYPE=text/html:Teens\, celebrate International Games Week at the library. Bring friends and stop by the Reference Desk in the Teen Department to borrow games. Play your favorite board game at the library! Grades 7-12.
LOCATION:Granville Public Library
UID:e.180.12185
SEQUENCE:3
DTSTAMP:20260419T222149Z
URL:http://business.granvilleoh.com/events/details/international-games-week-12185
END:VEVENT

END:VCALENDAR
