BEGIN:VCALENDAR
VERSION:2.0
PRODID:-//ChamberMaster//Event Calendar 2.0//EN
METHOD:PUBLISH
X-PUBLISHED-TTL:P3D
REFRESH-INTERVAL:P3D
CALSCALE:GREGORIAN
BEGIN:VEVENT
DTSTART:20190116T163000Z
DTEND:20190116T180000Z
X-MICROSOFT-CDO-ALLDAYEVENT:FALSE
SUMMARY:January Member Meeting & Luncheon
DESCRIPTION:Please join us for our January Member Meeting & Luncheon during which we will provide a "State of the Chamber" talk which will recap elements of the year 2018 and provide overview and insight into plans and objectives for 2019.
X-ALT-DESC;FMTTYPE=text/html:Please join us for our January Member Meeting &amp\; Luncheon during which we will provide a &quot\;State of the Chamber&quot\; talk which will recap elements of the year 2018 and provide overview and insight into plans and objectives for 2019.
LOCATION:Bryn Du Mansion 537 Jones Road Granville\, OH 43023
UID:e.180.12278
SEQUENCE:3
DTSTAMP:20260420T022808Z
URL:http://business.granvilleoh.com/events/details/january-member-meeting-luncheon-12278
END:VEVENT

END:VCALENDAR
