BEGIN:VCALENDAR
VERSION:2.0
PRODID:-//ChamberMaster//Event Calendar 2.0//EN
METHOD:PUBLISH
X-PUBLISHED-TTL:P3D
REFRESH-INTERVAL:P3D
CALSCALE:GREGORIAN
BEGIN:VEVENT
DTSTART:20190328T203000Z
DTEND:20190328T213000Z
X-MICROSOFT-CDO-ALLDAYEVENT:FALSE
SUMMARY:'Jewish Tradition and the Judeo-Christian Tradition'
DESCRIPTION:Denison University's Goodspeed Lecture Series welcomes Professor of Philosophy at John Jay College of Criminal Justice Jonathan Jacobs\, presenting\, "Jewish Tradition and the Judeo-Christian Tradition."\nWhat are distinctive contributions of Judaism and Jewish tradition to the Judeo-Christian Tradition? Do Jewish thought and commitment to Judaism look very different from inside them and from the perspective of the Western cultural/intellectual heritage overall? Is the Judeo-Christian tradition significant mainly as a source and origin or are its contemporary resonances also of the first importance? In what respects does it remain a vital\, living element of contemporary political and intellectual culture?\n\nJacobs is a Presidential Scholar\, and Director of the Institute for Criminal Justice Ethics at John Jay College of Criminal Justice\, and member of the doctoral faculties of Philosophy and Criminal Justice at the City University of New York Graduate Center.
X-ALT-DESC;FMTTYPE=text/html:<span style="background-color:transparent\; color:rgb(0\, 0\, 0)\; font-family:arial\; font-size:11pt">Denison University&#39\;s Goodspeed Lecture Series welcomes Professor of Philosophy at John Jay College of Criminal Justice Jonathan Jacobs\, presenting\, &quot\;Jewish Tradition and the Judeo-Christian Tradition.&quot\;</span>\n<p><span style="background-color:transparent\; color:rgb(0\, 0\, 0)\; font-family:arial\; font-size:11pt">What are distinctive contributions of Judaism and Jewish tradition to the Judeo-Christian Tradition? Do Jewish thought and commitment to Judaism look very different from inside them and from the perspective of the Western cultural/intellectual heritage overall? Is the Judeo-Christian tradition significant mainly as a source and origin or are its contemporary resonances also of the first importance? In what respects does it remain a vital\, living element of contemporary political and intellectual culture?</span></p>\n\n<p><span style="background-color:transparent\; color:rgb(0\, 0\, 0)\; font-family:arial\; font-size:11pt">Jacobs is a Presidential Scholar\, and Director of the Institute for Criminal Justice Ethics at John Jay College of Criminal Justice\, and member of the doctoral faculties of Philosophy and Criminal Justice at the City University of New York Graduate Center.</span></p>\n\n<div>&nbsp\;</div>\n
LOCATION:Denison University Room 105 of Higley Hall 100 Ridge Road
UID:e.180.12574
SEQUENCE:3
DTSTAMP:20260420T035414Z
URL:http://business.granvilleoh.com/events/details/jewish-tradition-and-the-judeo-christian-tradition-12574
END:VEVENT

END:VCALENDAR
