BEGIN:VCALENDAR
VERSION:2.0
PRODID:-//ChamberMaster//Event Calendar 2.0//EN
METHOD:PUBLISH
X-PUBLISHED-TTL:P3D
REFRESH-INTERVAL:P3D
CALSCALE:GREGORIAN
BEGIN:VEVENT
DTSTART:20180929T140000Z
DTEND:20180929T230000Z
X-MICROSOFT-CDO-ALLDAYEVENT:FALSE
SUMMARY:Jubilee of Fine Art & Sculpture
DESCRIPTION:Enjoy and aquire ART throughout the Jill Griesse Historic Garden
X-ALT-DESC;FMTTYPE=text/html:Enjoy and aquire ART throughout the Jill Griesse Historic Garden
LOCATION:The Robbins Hunter Museum
UID:e.180.12159
SEQUENCE:3
DTSTAMP:20260419T193611Z
URL:http://business.granvilleoh.com/events/details/jubilee-of-fine-art-sculpture-12159
END:VEVENT

END:VCALENDAR
