BEGIN:VCALENDAR
VERSION:2.0
PRODID:-//ChamberMaster//Event Calendar 2.0//EN
METHOD:PUBLISH
X-PUBLISHED-TTL:P3D
REFRESH-INTERVAL:P3D
CALSCALE:GREGORIAN
BEGIN:VEVENT
DTSTART:20191025T230000Z
DTEND:20191026T010000Z
X-MICROSOFT-CDO-ALLDAYEVENT:FALSE
SUMMARY:Julie Cartland Bogaert Student Reading Series
DESCRIPTION:The English Department at Denison University\, with generous support from the Julie Cartland Bogaert Endowed Support Fund\, present the Julie Cartland Bogaert Student Reading Series.\n\nEnjoy original creative readings in prose\, poetry\, and spoken word. Featuring a special intermission performance by Denison University's Latin Dance Team Saz n.\n\nFood and beverages provided. Alcohol for purchase (Must show ID).\n\nTo sign up to read (up to 5 min.)\, visit https://docs.google.com/forms/d/e/1FAIpQLScNjy4LS-YSNknhbGTDrFD3qqLjYq_gDtICHS78M_fizjBc5Q/viewform
X-ALT-DESC;FMTTYPE=text/html:<div>\n<div>\n<div>\n<div>\n<div>\n<div>\n<div>\n<div>\n<p><span style="font-size:14px"><span style="font-family:arial\,helvetica\,sans-serif">The English Department at Denison University\, with generous support from the Julie Cartland Bogaert Endowed Support Fund\, present the Julie Cartland Bogaert Student Reading Series.</span></span></p>\n\n<p><span style="font-size:14px"><span style="font-family:arial\,helvetica\,sans-serif">Enjoy original creative readings in prose\, poetry\, and spoken word. Featuring a special intermission performance by&nbsp\;Denison University&rsquo\;s Latin Dance Team Saz&oacute\;n.</span></span></p>\n\n<p><span style="font-size:14px"><span style="font-family:arial\,helvetica\,sans-serif">Food and beverages provided. Alcohol for purchase (Must show ID).</span></span></p>\n\n<p><span style="font-size:14px"><span style="font-family:arial\,helvetica\,sans-serif">To sign up to read (up to 5 min.)\, visit https://docs.google.com/forms/d/e/1FAIpQLScNjy4LS-YSNknhbGTDrFD3qqLjYq_gDtICHS78M_fizjBc5Q/viewform</span></span></p>\n\n<div>&nbsp\;</div>\n</div>\n</div>\n</div>\n</div>\n</div>\n</div>\n</div>\n</div>\n
LOCATION:Denison University Slayter Student Union The Nest 200 Ridge Road
UID:e.180.12893
SEQUENCE:3
DTSTAMP:20260422T144651Z
URL:http://business.granvilleoh.com/events/details/julie-cartland-bogaert-student-reading-series-12893
END:VEVENT

END:VCALENDAR
