BEGIN:VCALENDAR
VERSION:2.0
PRODID:-//ChamberMaster//Event Calendar 2.0//EN
METHOD:PUBLISH
X-PUBLISHED-TTL:P3D
REFRESH-INTERVAL:P3D
CALSCALE:GREGORIAN
BEGIN:VEVENT
DTSTART:20191025T230000Z
DTEND:20191026T010000Z
X-MICROSOFT-CDO-ALLDAYEVENT:FALSE
SUMMARY:Julie Cartland Bogaert Student Reading Series - Denison University
DESCRIPTION:Join us for a night of celebrating the power of words! In the casual setting of the Nest in Denison's Slayter Union\, we invite all to come and listen to spoken word poetry and other narratives from the community. There will be a performance by the Denison dance group Saz n as well. All are welcome to come and share something if you'd like to\, or just come and listen!
X-ALT-DESC;FMTTYPE=text/html:Join us for a night of celebrating the power of words! In the casual setting of the Nest in Denison&#39\;s Slayter Union\, we invite all to come and listen to spoken word poetry and other narratives from the community. There will be a performance by the Denison dance group Saz&oacute\;n as well. All are welcome to come and share something if you&#39\;d like to\, or just come and listen!
LOCATION:Denison University\, Slayter Union 3rd Floor - The "Nest"
UID:e.180.12892
SEQUENCE:3
DTSTAMP:20260422T132355Z
URL:http://business.granvilleoh.com/events/details/julie-cartland-bogaert-student-reading-series-denison-university-12892
END:VEVENT

END:VCALENDAR
