BEGIN:VCALENDAR
VERSION:2.0
PRODID:-//ChamberMaster//Event Calendar 2.0//EN
METHOD:PUBLISH
X-PUBLISHED-TTL:P3D
REFRESH-INTERVAL:P3D
CALSCALE:GREGORIAN
BEGIN:VEVENT
DTSTART:20190717T153000Z
DTEND:20190717T170000Z
X-MICROSOFT-CDO-ALLDAYEVENT:FALSE
SUMMARY:July Member Meeting & Luncheon with special guest Morgan Hughes
DESCRIPTION:When Morgan Hughes and a group of other Columbus soccer fans heard that their team\, the Columbus Crew\, was possibly going to move to Austin\, Texas\, they banded together and created the Save The Crew movement. This carefully organized group of volunteers worked tirelessly to create a network of businesses\, civic leaders and fans to convince the owners to sell instead of move. In just over 14 months\, they managed to do what few sports teams have been able to do- they saved their team-- and made international news with their success. Join us to hear Hughes talk about the grassroots organization that used their marketing skill\, community connections and fresh ideas to beat the odds to keep their team where they thought it should stay forever in Central Ohio.
X-ALT-DESC;FMTTYPE=text/html:When Morgan Hughes and a group of other Columbus soccer fans heard that their team\, the Columbus Crew\, was possibly going to move to Austin\, Texas\, they banded together and created the Save The Crew movement. This carefully organized group of volunteers worked tirelessly to create a network of businesses\, civic leaders and fans to convince the owners to sell instead of move. In just over 14 months\, they managed to do what few sports teams have been able to do- they saved their team-- and made international news with their success. Join us to hear Hughes talk about the grassroots organization that used their marketing skill\, community connections and fresh ideas to beat the odds to keep their team where they thought it should stay forever&mdash\;in Central Ohio.&nbsp\;&nbsp\;
LOCATION:The Granville Inn 314 E. Broadway Granville\, OH 43023
UID:e.180.12700
SEQUENCE:3
DTSTAMP:20260422T102902Z
URL:http://business.granvilleoh.com/events/details/july-member-meeting-luncheon-with-special-guest-morgan-hughes-12700
END:VEVENT

END:VCALENDAR
