BEGIN:VCALENDAR
VERSION:2.0
PRODID:-//ChamberMaster//Event Calendar 2.0//EN
METHOD:PUBLISH
X-PUBLISHED-TTL:P3D
REFRESH-INTERVAL:P3D
CALSCALE:GREGORIAN
BEGIN:VEVENT
DTSTART:20180727T230000Z
DTEND:20180728T010000Z
X-MICROSOFT-CDO-ALLDAYEVENT:FALSE
SUMMARY:Jump & Jive Swing Dance
DESCRIPTION:A swinging celebration of summer! Join us at 7pm for a short swing dance lesson. At 7:30 the joint starts jumping as the music gets underway. Bring your favorite guy or gal for a great time! Welsh Hills School Teens and Adults welcome!
X-ALT-DESC;FMTTYPE=text/html:A swinging celebration of summer! Join us at 7pm for a short swing dance lesson. At 7:30 the joint starts jumping as the music gets underway. Bring your favorite guy or gal for a great time! Welsh Hills School Teens and Adults welcome!
LOCATION:Sponsored by GPL to be held at Welsh Hills School
UID:e.180.12074
SEQUENCE:3
DTSTAMP:20260419T170740Z
URL:http://business.granvilleoh.com/events/details/jump-jive-swing-dance-12074
END:VEVENT

END:VCALENDAR
