BEGIN:VCALENDAR
VERSION:2.0
PRODID:-//ChamberMaster//Event Calendar 2.0//EN
METHOD:PUBLISH
X-PUBLISHED-TTL:P3D
REFRESH-INTERVAL:P3D
CALSCALE:GREGORIAN
BEGIN:VEVENT
DTSTART:20180614T230000Z
DTEND:20180615T003000Z
X-MICROSOFT-CDO-ALLDAYEVENT:FALSE
SUMMARY:Jurassic Myths Busted! A Paleontologist Looks at the Jurassic Park Movies
DESCRIPTION:The dinosaurs and other prehistoric animals in the Jurassic Park films are very lifelike but how scientifically accurate are they? This talk discusses what the filmmakers got right and what they got wrong. Our guest speaker\, Dale Gnidovec\, is the Collections Manager & Curator for the Orton Geological Museum\, School of Earth Sciences\, at the Ohio State University. He manages a collection of over 54\,000 rocks\, minerals\, and fossils. He speaks to nearly 5\,000 people a year through public outreach events and teaches an Earth History course at the Ohio State University. Mr. Gnidovec writes a geology column that appears periodically in the Columbus Dispatch. During the past 13 summers\, he has worked with the Cincinnati Museum Center searching and digging for dinosaur fossils in Montana.
X-ALT-DESC;FMTTYPE=text/html:The dinosaurs and other prehistoric animals in the Jurassic Park films are very lifelike but how scientifically accurate are they? This talk discusses what the filmmakers got right and what they got wrong. Our guest speaker\, Dale Gnidovec\, is the Collections Manager &amp\; Curator for the Orton Geological Museum\, School of Earth Sciences\, at the Ohio State University. He manages a collection of over 54\,000 rocks\, minerals\, and fossils. He speaks to nearly 5\,000 people a year through public outreach events and teaches an Earth History course at the Ohio State University. Mr. Gnidovec writes a geology column that appears periodically in the Columbus Dispatch. During the past 13 summers\, he has worked with the Cincinnati Museum Center searching and digging for dinosaur fossils in Montana.
LOCATION:Granville Public Library
UID:e.180.12000
SEQUENCE:3
DTSTAMP:20260419T153819Z
URL:http://business.granvilleoh.com/events/details/jurassic-myths-busted-a-paleontologist-looks-at-the-jurassic-park-movies-12000
END:VEVENT

END:VCALENDAR
