BEGIN:VCALENDAR
VERSION:2.0
PRODID:-//ChamberMaster//Event Calendar 2.0//EN
METHOD:PUBLISH
X-PUBLISHED-TTL:P3D
REFRESH-INTERVAL:P3D
CALSCALE:GREGORIAN
BEGIN:VEVENT
DTSTART:20190408T230000Z
DTEND:20190409T000000Z
X-MICROSOFT-CDO-ALLDAYEVENT:FALSE
SUMMARY:Keridwen Luis presents 'Herlands'
DESCRIPTION:Denison University welcomes Keridwen Luis\, a lecturer in sociology and women's\, gender\, and sexuality studies from Harvard University\, discussing her book\, "Herlands: Exploring the Women's Land Movement in the United States."\nLuis is a cultural anthropologist who specializes in gender\, sexuality\, agency/identity\, and the body. She holds a doctor of philosophy in anthropology and a master of arts in anthropology and women's studies from Brandeis University.\n\nKeridwen taught women's\, gender\, and sexuality studies at Harvard for four years\, two as a college fellow\, and is delighted to be working with the Sociology Department now.  She will be teaching "Identity\, Inequality\, and Social Media" in the Spring of 2019.
X-ALT-DESC;FMTTYPE=text/html:<span style="background-color:transparent\; color:rgb(0\, 0\, 0)\; font-family:arial\; font-size:11pt">Denison University welcomes Keridwen Luis\, a lecturer in sociology and </span><span style="color:rgb(0\, 0\, 0)\; font-family:arial\; font-size:11pt">women&#39\;s\, gender\, and sexuality studies</span><span style="background-color:transparent\; color:rgb(0\, 0\, 0)\; font-family:arial\; font-size:11pt"> from Harvard University\, discussing her book\, &quot\;Herlands: Exploring the Women&#39\;s Land Movement in the United States.&quot\;</span>\n<p><span style="background-color:transparent\; color:rgb(0\, 0\, 0)\; font-family:arial\; font-size:11pt">Luis is a cultural anthropologist who specializes in gender\, sexuality\, agency/identity\, and the body. She holds a doctor of philosophy in anthropology and a master of arts in anthropology and women&rsquo\;s studies from Brandeis University.</span></p>\n\n<p><span style="background-color:transparent\; color:rgb(0\, 0\, 0)\; font-family:arial\; font-size:11pt">Keridwen taught women&#39\;s\, gender\, and sexuality studies at Harvard for four years\, two as a college fellow\, and is delighted to be working with the Sociology Department now. &nbsp\;She will be teaching &quot\;Identity\, Inequality\, and Social Media&quot\; in the Spring of 2019.</span></p>\n\n<div>&nbsp\;</div>\n<span style="background-color:transparent\; color:rgb(0\, 0\, 0)\; font-family:arial\; font-size:11pt"> </span>
LOCATION:Denison University Room 210 of the Talbot Hall of Biological Science 350 Ridge Road
UID:e.180.12548
SEQUENCE:3
DTSTAMP:20260420T050652Z
URL:http://business.granvilleoh.com/events/details/keridwen-luis-presents-herlands-12548
END:VEVENT

END:VCALENDAR
