BEGIN:VCALENDAR
VERSION:2.0
PRODID:-//ChamberMaster//Event Calendar 2.0//EN
METHOD:PUBLISH
X-PUBLISHED-TTL:P3D
REFRESH-INTERVAL:P3D
CALSCALE:GREGORIAN
BEGIN:VEVENT
DTSTART:20180910T230000Z
DTEND:20180911T000000Z
X-MICROSOFT-CDO-ALLDAYEVENT:FALSE
SUMMARY:Knitty Gritty
DESCRIPTION:Don't know a knit from a purl? Join us to learn the basics. Bring your own knitting needles\, US size 6 circular needle 32 in or smaller and 220+ yards of DK/Sport worsted weight yarn. Miss Megan will lead you through making your own gartered ribbed cowl. Rising 7th through 12th graders and Adults welcome!
X-ALT-DESC;FMTTYPE=text/html:Don&#39\;t know a knit from a purl? Join us to learn the basics. Bring your own knitting needles\, US size 6 circular needle 32 in or smaller and 220+ yards of DK/Sport worsted weight yarn. Miss Megan will lead you through making your own gartered ribbed cowl. Rising 7th through 12th graders and Adults welcome!
LOCATION:Granville Public Library
UID:e.180.12107
SEQUENCE:3
DTSTAMP:20260419T193231Z
URL:http://business.granvilleoh.com/events/details/knitty-gritty-09-10-2018-12107
END:VEVENT

END:VCALENDAR
