BEGIN:VCALENDAR
VERSION:2.0
PRODID:-//ChamberMaster//Event Calendar 2.0//EN
METHOD:PUBLISH
X-PUBLISHED-TTL:P3D
REFRESH-INTERVAL:P3D
CALSCALE:GREGORIAN
BEGIN:VEVENT
DTSTART:20181113T000000Z
DTEND:20181113T010000Z
X-MICROSOFT-CDO-ALLDAYEVENT:FALSE
SUMMARY:Knitty Gritty
DESCRIPTION:Don't know a knit from a purl? Join us to learn the basics. In November\, we'll be starting the fuzzy mitten lamb. Bring 50g of fuzzy or boucle yarn for the body and 25g of similar yarn in a contrasting color for the face and hooves. Knitting needles in size US 6 are recommended. We'll supply the button eyes and stuffing. Megan will explain the pattern to you and help you get started on this adorable project. Rising 7th through 12th graders and Adults welcome!
X-ALT-DESC;FMTTYPE=text/html:Don&#39\;t know a knit from a purl? Join us to learn the basics. In November\, we&#39\;ll be starting the fuzzy mitten lamb. Bring 50g of fuzzy or boucle yarn for the body and 25g of similar yarn in a contrasting color for the face and hooves. Knitting needles in size US 6 are recommended. We&#39\;ll supply the button eyes and stuffing. Megan will explain the pattern to you and help you get started on this adorable project. Rising 7th through 12th graders and Adults welcome!
LOCATION:Granville Public Library
UID:e.180.12188
SEQUENCE:3
DTSTAMP:20260419T234212Z
URL:http://business.granvilleoh.com/events/details/knitty-gritty-11-12-2018-12188
END:VEVENT

END:VCALENDAR
