BEGIN:VCALENDAR
VERSION:2.0
PRODID:-//ChamberMaster//Event Calendar 2.0//EN
METHOD:PUBLISH
X-PUBLISHED-TTL:P3D
REFRESH-INTERVAL:P3D
CALSCALE:GREGORIAN
BEGIN:VEVENT
DTSTART:20191022T230000Z
DTEND:20191023T000000Z
X-MICROSOFT-CDO-ALLDAYEVENT:FALSE
SUMMARY:Knitty Gritty: Campout Fingerless Mitts
DESCRIPTION:Don't know a knit from a purl? Join us to learn the basics. Bring your own knitting needles and yarn. In October we'll meet on the 8th and 22nd to work on Campout Fingerless Mitts. Bring 120 yards of worsted weight yarn and US 6 double pointed needles.
X-ALT-DESC;FMTTYPE=text/html:Don&#39\;t know a knit from a purl? Join us to learn the basics. Bring your own knitting needles and yarn. In October we&#39\;ll meet on the 8th and 22nd to work on Campout Fingerless Mitts. Bring 120 yards of worsted weight yarn and US 6 double pointed needles.
LOCATION:Granville Public Library
UID:e.180.12882
SEQUENCE:3
DTSTAMP:20260422T131355Z
URL:http://business.granvilleoh.com/events/details/knitty-gritty-campout-fingerless-mitts-10-22-2019-12882
END:VEVENT

END:VCALENDAR
