BEGIN:VCALENDAR
VERSION:2.0
PRODID:-//ChamberMaster//Event Calendar 2.0//EN
METHOD:PUBLISH
X-PUBLISHED-TTL:P3D
REFRESH-INTERVAL:P3D
CALSCALE:GREGORIAN
BEGIN:VEVENT
DTSTART:20190910T230000Z
DTEND:20190911T000000Z
X-MICROSOFT-CDO-ALLDAYEVENT:FALSE
SUMMARY:Knitty Gritty: Chunky Slipper Socks
DESCRIPTION:Don't know a knit from a purl? Join us to learn the basics. Bring your own knitting needles and yarn. In September we'll meet on the 10th and 24th to work on Chunky Slipper Socks. Bring a skein of chunky weight yarn and US 7 double pointed needles (set of 5).
X-ALT-DESC;FMTTYPE=text/html:Don&#39\;t know a knit from a purl? Join us to learn the basics. Bring your own knitting needles and yarn. In September we&#39\;ll meet on the 10th and 24th to work on Chunky Slipper Socks. Bring a skein of chunky weight yarn and US 7 double pointed needles (set of 5).
LOCATION:Granville Public Library Community Room
UID:e.180.12814
SEQUENCE:3
DTSTAMP:20260422T115309Z
URL:http://business.granvilleoh.com/events/details/knitty-gritty-chunky-slipper-socks-12814
END:VEVENT

END:VCALENDAR
