BEGIN:VCALENDAR
VERSION:2.0
PRODID:-//ChamberMaster//Event Calendar 2.0//EN
METHOD:PUBLISH
X-PUBLISHED-TTL:P3D
REFRESH-INTERVAL:P3D
CALSCALE:GREGORIAN
BEGIN:VEVENT
DTSTART:20180711T230000Z
DTEND:20180712T000000Z
X-MICROSOFT-CDO-ALLDAYEVENT:FALSE
SUMMARY:Knitty Gritty: Learn to Knit
DESCRIPTION:Don't know a knit from a purl? Join us to learn the basics. Bring your own knitting needles\, US size 8 circular needle 32 in or smaller and 225-450 yards of DK/Sport weight yarn. Miss Megan will lead you through making your own honey cowl. Rising 7th graders through adults welcome!
X-ALT-DESC;FMTTYPE=text/html:Don&#39\;t know a knit from a purl? Join us to learn the basics. Bring your own knitting needles\, US size 8 circular needle 32 in or smaller and 225-450 yards of DK/Sport weight yarn. Miss Megan will lead you through making your own honey cowl. Rising 7th graders through adults welcome!
LOCATION:Granville Public Library
UID:e.180.12045
SEQUENCE:3
DTSTAMP:20260419T170652Z
URL:http://business.granvilleoh.com/events/details/knitty-gritty-learn-to-knit-12045
END:VEVENT

END:VCALENDAR
