BEGIN:VCALENDAR
VERSION:2.0
PRODID:-//ChamberMaster//Event Calendar 2.0//EN
METHOD:PUBLISH
X-PUBLISHED-TTL:P3D
REFRESH-INTERVAL:P3D
CALSCALE:GREGORIAN
BEGIN:VEVENT
DTSTART:20180613T230000Z
DTEND:20180614T000000Z
X-MICROSOFT-CDO-ALLDAYEVENT:FALSE
SUMMARY:Knitty Gritty: Learn to Knit and Crochet
DESCRIPTION:Don't know a knit from a purl? Join us to learn the basics. Bring your own knitting needles\, US size 6-8 and Miss Megan will lead you through the basics with a coffee cozy starter project. We'll supply the yarn for the first project although feel free to bring your own if you'd like. Rising 7th through 12th graders and Adults welcome!
X-ALT-DESC;FMTTYPE=text/html:Don&#39\;t know a knit from a purl? Join us to learn the basics. Bring your own knitting needles\, US size 6-8 and Miss Megan will lead you through the basics with a coffee cozy starter project. We&#39\;ll supply the yarn for the first project although feel free to bring your own if you&#39\;d like. Rising 7th through 12th graders and Adults welcome!
LOCATION:Granville Public Library Learning Lab
UID:e.180.11998
SEQUENCE:3
DTSTAMP:20260419T153214Z
URL:http://business.granvilleoh.com/events/details/knitty-gritty-learn-to-knit-and-crochet-11998
END:VEVENT

END:VCALENDAR
