BEGIN:VCALENDAR
VERSION:2.0
PRODID:-//ChamberMaster//Event Calendar 2.0//EN
METHOD:PUBLISH
X-PUBLISHED-TTL:P3D
REFRESH-INTERVAL:P3D
CALSCALE:GREGORIAN
BEGIN:VEVENT
DTSTART:20190115T000000Z
DTEND:20190115T013000Z
X-MICROSOFT-CDO-ALLDAYEVENT:FALSE
SUMMARY:Knitty Gritty: World's Simplest Mitten
DESCRIPTION:Don't know a knit from a purl? Join us to learn the basics. This month we'll be knitting the World's Simplest Mittens. Please bring your own knitting needles and yarn. Double pointed needles in sizes 5 and 7 as well as 200-300 yards of DK or Worsted weight yarn are recommended. Teens and adults welcome!
X-ALT-DESC;FMTTYPE=text/html:Don&#39\;t know a knit from a purl? Join us to learn the basics. This month we&#39\;ll be knitting the World&#39\;s Simplest Mittens. Please bring your own knitting needles and yarn. Double pointed needles in sizes 5 and 7 as well as 200-300 yards of DK or Worsted weight yarn are recommended. Teens and adults welcome!
LOCATION:Granville Public Library
UID:e.180.12287
SEQUENCE:3
DTSTAMP:20260420T022540Z
URL:http://business.granvilleoh.com/events/details/knitty-gritty-world-s-simplest-mitten-12287
END:VEVENT

END:VCALENDAR
