BEGIN:VCALENDAR
VERSION:2.0
PRODID:-//ChamberMaster//Event Calendar 2.0//EN
METHOD:PUBLISH
X-PUBLISHED-TTL:P3D
REFRESH-INTERVAL:P3D
CALSCALE:GREGORIAN
BEGIN:VEVENT
DTSTART:20190417T153000Z
DTEND:20190417T170000Z
X-MICROSOFT-CDO-ALLDAYEVENT:FALSE
SUMMARY:Kussmaul Award Presentation and Monthly Member Meeting/Luncheon
DESCRIPTION:Annual Kussmaul Award Presentation\n\n \n\nOur April Membership Meeting and Luncheon features the annual Kussmaul Award Presentation recognizing the Denison student who best exemplifies friendly relations between Granville and the University.  Denison University President Adam Weinberg will provide an update and "State of the College" remarks for our benefit.
X-ALT-DESC;FMTTYPE=text/html:<span style="font-size:16px\;"><span style="font-family:times new roman\;"><u>Annual Kussmaul Award Presentation</u></span></span><br>\n&nbsp\;<br>\n<span style="font-size:16px\;"><span style="font-family:times new roman\;">Our April Membership Meeting and Luncheon features the annual Kussmaul Award Presentation recognizing the Denison student who best exemplifies friendly relations between Granville and the University.&nbsp\;&nbsp\;<span style="color: rgb(29\, 33\, 41)\; white-space: pre-wrap\;">Denison University President Adam Weinberg will provide an update and "State of the College" remarks for our benefit.</span></span></span>
LOCATION:The Granville Inn 314 East Broadway Granville\, OH 43023
UID:e.180.12598
SEQUENCE:3
DTSTAMP:20260420T051107Z
URL:http://business.granvilleoh.com/events/details/kussmaul-award-presentation-and-monthly-member-meeting-luncheon-12598
END:VEVENT

END:VCALENDAR
