BEGIN:VCALENDAR
VERSION:2.0
PRODID:-//ChamberMaster//Event Calendar 2.0//EN
METHOD:PUBLISH
X-PUBLISHED-TTL:P3D
REFRESH-INTERVAL:P3D
CALSCALE:GREGORIAN
BEGIN:VEVENT
DTSTART:20181212T013000Z
DTEND:20181212T030000Z
X-MICROSOFT-CDO-ALLDAYEVENT:FALSE
SUMMARY:Ladies’ Night Out Holiday Concert
DESCRIPTION:Denison University's Ladies' Night Out A Cappella group presents their annual December holiday concert. \nCome and enjoy some holiday classics as well as some new repertoire!
X-ALT-DESC;FMTTYPE=text/html:<span style="color:rgb(0\, 0\, 0)\; font-family:arial\; font-size:11pt">Denison University&rsquo\;s Ladies&rsquo\; Night Out A Cappella group presents their annual December holiday concert. </span>\n<p><span style="color:rgb(0\, 0\, 0)\; font-family:verdana\,geneva\,sans-serif\; font-size:12px"><span style="font-family:arial\; font-size:11pt">Come and enjoy some holiday classics as well as some new repertoire! </span></span></p>\n
LOCATION:Denison University Slayter Student Union 200 Ridge Road
UID:e.180.12266
SEQUENCE:3
DTSTAMP:20260419T235423Z
URL:http://business.granvilleoh.com/events/details/ladies-night-out-holiday-concert-12266
END:VEVENT

END:VCALENDAR
