BEGIN:VCALENDAR
VERSION:2.0
PRODID:-//ChamberMaster//Event Calendar 2.0//EN
METHOD:PUBLISH
X-PUBLISHED-TTL:P3D
REFRESH-INTERVAL:P3D
CALSCALE:GREGORIAN
BEGIN:VEVENT
DTSTART:20180925T200000Z
DTEND:20180925T213000Z
X-MICROSOFT-CDO-ALLDAYEVENT:FALSE
SUMMARY:Lagers & Learning - "Health Insurance 101 - Making the Most of your Benefits"
DESCRIPTION:Learn the basics of how your health insurance works and how to get the most out of your benefits.  Did you know there are numerous free services that you have available?  Find out more at Lagers and Learning with Tiffany Geiger from Creekstone Benefits.
X-ALT-DESC;FMTTYPE=text/html:<span style="background:white\;"><span style="color:#1D2129\;"><span style="font-family:helvetica\,sans-serif\;"><span style="font-size:10.5pt\;">Learn the basics of how your health insurance works and how to get the most out of your benefits.&nbsp\; Did you know there are numerous free services that you have available?&nbsp\; Find out more at Lagers and Learning with Tiffany Geiger from Creekstone Benefits.</span></span></span></span>
LOCATION:The Granville Inn (in the Library Room) 314 E. Broadway Granville\, OH 43023
UID:e.180.12162
SEQUENCE:3
DTSTAMP:20260419T193722Z
URL:http://business.granvilleoh.com/events/details/lagers-learning-health-insurance-101-making-the-most-of-your-benefits-12162
END:VEVENT

END:VCALENDAR
