BEGIN:VCALENDAR
VERSION:2.0
PRODID:-//ChamberMaster//Event Calendar 2.0//EN
METHOD:PUBLISH
X-PUBLISHED-TTL:P3D
REFRESH-INTERVAL:P3D
CALSCALE:GREGORIAN
BEGIN:VEVENT
DTSTART:20180806T200000Z
DTEND:20180806T213000Z
X-MICROSOFT-CDO-ALLDAYEVENT:FALSE
SUMMARY:Lagers & Learning - "Succession Planning or Selling a Small Business"
DESCRIPTION:Come and join us for an informal and conversational presentation on "Succession Planning or Selling a Small Business".  Tobin Mann of Mann Legal Services will lead our small group discussion.  We'll have a cheese tray to share and beverages of your choice will be available.
X-ALT-DESC;FMTTYPE=text/html:Come and join us for an informal and conversational presentation on &quot\;Succession Planning or Selling a Small Business&quot\;.&nbsp\; Tobin Mann of Mann Legal Services will lead our small group discussion.&nbsp\; We&#39\;ll have a cheese tray to share and beverages of your choice will be available.&nbsp\;
LOCATION:The Granville Inn - (in the Library Meeting room) 314 East Broadway Granville\, OH 43023
UID:e.180.12093
SEQUENCE:3
DTSTAMP:20260419T182203Z
URL:http://business.granvilleoh.com/events/details/lagers-learning-succession-planning-or-selling-a-small-business-12093
END:VEVENT

END:VCALENDAR
