BEGIN:VCALENDAR
VERSION:2.0
PRODID:-//ChamberMaster//Event Calendar 2.0//EN
METHOD:PUBLISH
X-PUBLISHED-TTL:P3D
REFRESH-INTERVAL:P3D
CALSCALE:GREGORIAN
BEGIN:VEVENT
DTSTART:20190724T170000Z
DTEND:20190724T190000Z
X-MICROSOFT-CDO-ALLDAYEVENT:FALSE
SUMMARY:Launchtime Games for Teens
DESCRIPTION:Teens\, join us for our last board games session of the Summer Reading Program. We'll provide a variety of games and snacks. Come on in\, relax\, and have some fun! Rising 7th through 12th graders welcome!
X-ALT-DESC;FMTTYPE=text/html:Teens\, join us for our last board games session of the Summer Reading Program. We&#39\;ll provide a variety of games and snacks. Come on in\, relax\, and have some fun! Rising 7th through 12th graders welcome!
LOCATION:Granville Public Library
UID:e.180.12740
SEQUENCE:3
DTSTAMP:20260422T102527Z
URL:http://business.granvilleoh.com/events/details/launchtime-games-for-teens-07-24-2019-12740
END:VEVENT

END:VCALENDAR
