BEGIN:VCALENDAR
VERSION:2.0
PRODID:-//ChamberMaster//Event Calendar 2.0//EN
METHOD:PUBLISH
X-PUBLISHED-TTL:P3D
REFRESH-INTERVAL:P3D
CALSCALE:GREGORIAN
BEGIN:VEVENT
DTSTART:20191108T163000Z
DTEND:20191108T190000Z
X-MICROSOFT-CDO-ALLDAYEVENT:FALSE
SUMMARY:Laura C Harris Series: Heather Corinna presents a workshop
DESCRIPTION:Denison University's Laura C. Harris Series speaker Heather Corinna\, founder and director of Scarlateen (www.scarlateen.com) and author of "S.E.X.: The All-You-Need-to-Know Sexuality Guide to Get You Through Your Teens and Twenties\," presents a workshop entitled\, "Mutually Inclusive: Self Defense Against Selfish Sexuality."
X-ALT-DESC;FMTTYPE=text/html:<span style="color:rgb(69\, 69\, 69)\; font-family:freight sans pro w00\; font-size:19.2px">Denison University&rsquo\;s&nbsp\;Laura C. Harris Series speaker Heather Corinna\, founder and director of Scarlateen (www.scarlateen.com) and author of &ldquo\;S.E.X.: The All-You-Need-to-Know Sexuality Guide to Get You Through Your Teens and Twenties\,&rdquo\;&nbsp\;presents a workshop entitled\, &ldquo\;Mutually Inclusive: Self Defense Against Selfish Sexuality.&rdquo\;</span>
LOCATION:Denison University Boardroom in Barney-Davis Hall 200 West Loop
UID:e.180.12824
SEQUENCE:3
DTSTAMP:20260422T144251Z
URL:http://business.granvilleoh.com/events/details/laura-c-harris-series-heather-corinna-presents-a-workshop-12824
END:VEVENT

END:VCALENDAR
