BEGIN:VCALENDAR
VERSION:2.0
PRODID:-//ChamberMaster//Event Calendar 2.0//EN
METHOD:PUBLISH
X-PUBLISHED-TTL:P3D
REFRESH-INTERVAL:P3D
CALSCALE:GREGORIAN
BEGIN:VEVENT
DTSTART:20190913T220000Z
DTEND:20190913T230000Z
X-MICROSOFT-CDO-ALLDAYEVENT:FALSE
SUMMARY:Laura C. Harris Series welcomes Uzoamaka Nwankpa
DESCRIPTION:Denison University's Laura C. Harris Series welcomes Uzoamaka Nwankpa performing "Surviving America - A Black Immigrant's Story."\n\n\n\nNwankpa is a community health registered nurse\, teacher\, storyteller\, dancer\, and founder of the Uzo Method Project which explores the use of alternative healing modalities as a public health solution to increase wellness across communities.  A person of Igbo heritage (Nigeria)\, Uzo is a queer\, first generation immigrant dedicated to invigorating her ancestral notions of health\, well-being and healing that have been oppressed as a consequence of colonization\, assimilation\, and genocide. Through a 'one-woman performance ritual' that combines dance\, music\, and a research based-monologue\, her performance investigates the unfamiliar\, less understood and the less obvious perspectives of the healthcare system. Uzo combines her interest in health and social justice with performing arts to investigate questions and articulate insights about health from an indigenous and diaspora African orientation. The performance research will utilize Crenshaw's (1989) theory of intersectionality to look at the distinct health challenges facing marginalized folk.\n\nResidency: Sept. 8 through Sept. 16\, 2019.
X-ALT-DESC;FMTTYPE=text/html:<p><span style="background-color:transparent\; color:rgb(0\, 0\, 0)\; font-family:arial\; font-size:11pt">Denison University&#39\;s Laura C. Harris Series welcomes Uzoamaka Nwankpa performing &ldquo\;Surviving America - A Black Immigrant&rsquo\;s Story.&rdquo\;</span><br />\n<br />\n<span style="background-color:transparent\; color:rgb(0\, 0\, 0)\; font-family:arial\; font-size:11pt">Nwankpa is a community health registered nurse\, teacher\, storyteller\, dancer\, and founder of the Uzo Method Project which explores the use of alternative healing modalities as a public health solution to increase wellness across communities.&nbsp\; A person of Igbo heritage (Nigeria)\, Uzo is a queer\, first generation immigrant dedicated to invigorating her ancestral notions of health\, well-being and healing that have been oppressed as a consequence of colonization\, assimilation\, and genocide. Through a &lsquo\;one-woman performance ritual&rsquo\; that combines dance\, music\, and a research based-monologue\, her performance investigates the unfamiliar\, less understood and the less obvious perspectives of the healthcare system. Uzo combines her interest in health and social justice with performing arts to investigate questions and articulate insights about health from an indigenous and diaspora African orientation. The performance research will utilize Crenshaw&#39\;s (1989) theory of intersectionality to look at the distinct health challenges facing marginalized folk.</span></p>\n\n<p><span style="background-color:transparent\; color:rgb(0\, 0\, 0)\; font-family:arial\; font-size:11pt">Residency: Sept. 8 through Sept. 16\, 2019.</span></p>\n\n<div>&nbsp\;</div>\n\n<div>&nbsp\;</div>\n
LOCATION:Denison University Michael D. Eisner Center for the Performing Arts 240 W. Broadway
UID:e.180.12707
SEQUENCE:3
DTSTAMP:20260422T115816Z
URL:http://business.granvilleoh.com/events/details/laura-c-harris-series-uzoamaka-nwankpa-12707
END:VEVENT

END:VCALENDAR
