BEGIN:VCALENDAR
VERSION:2.0
PRODID:-//ChamberMaster//Event Calendar 2.0//EN
METHOD:PUBLISH
X-PUBLISHED-TTL:P3D
REFRESH-INTERVAL:P3D
CALSCALE:GREGORIAN
BEGIN:VEVENT
DTSTART:20191108T000000Z
DTEND:20191108T010000Z
X-MICROSOFT-CDO-ALLDAYEVENT:FALSE
SUMMARY:Laura C. Harris Series welcomes Heather Corinna and Hanne Blank
DESCRIPTION:Denison University's Laura C. Harris Series welcomes Heather Corinna and Hanne Blank presenting "Sex Ed for the Real World: A Conversation with Heather Corinna and Hanne Blank."\n\n\n\nCorinna created the first independently run\, feminist\, sex-positive\, politically aware youth and young adult sexual health resource on the Internet\, Scarleteen.com. Corinna and a small army of volunteers have\, in that time\, provided sexuality and sexual health information for anyone seeking it within a decidedly feminist\, LGBTQIA+-inclusive\, non-alarmist\, politically left of center\, youth-affirming\, consent-driven context. Corinna's work is a precious\, rare model of what feminist sex education and sexual health education in the public interest can look like\, and her "sex ed for the real world" workshops are extremely well suited toward the college audience.  A self-described "queer\, rabblerousing\, polymath\," Corinna has advocated for accepting the diverse forms of sexual experience and avoiding "expertitis." Corinna is the author of "s.e.x. the all-you-need-to-know sexuality guide to get you through your teens and twenties."\n\nWorkshop: "Sex Ed for the Real World" on Friday\, Nov. 8\, time and location will be posted at a later date.
X-ALT-DESC;FMTTYPE=text/html:<p><span style="background-color:transparent\; color:rgb(0\, 0\, 0)\; font-family:arial\; font-size:11pt">Denison University&rsquo\;s Laura C. Harris Series welcomes Heather Corinna and Hanne Blank presenting &quot\;Sex Ed for the Real World: A Conversation with Heather Corinna and Hanne Blank.&rdquo\;</span><br />\n<br />\n<span style="background-color:transparent\; color:rgb(0\, 0\, 0)\; font-family:arial\; font-size:11pt">Corinna created the first independently run\, feminist\, sex-positive\, politically aware youth and young adult sexual health resource on the Internet\, Scarleteen.com. Corinna and a small army of volunteers have\, in that time\, provided sexuality and sexual health information for anyone seeking it within a decidedly feminist\, LGBTQIA+-inclusive\, non-alarmist\, politically left of center\, youth-affirming\, consent-driven context. Corinna&#39\;s work is a precious\, rare model of what feminist sex education and sexual health education in the public interest can look like\, and her &ldquo\;sex ed for the real world&rdquo\; workshops are extremely well suited toward the college audience.&nbsp\; A self-described &quot\;queer\, rabblerousing\, polymath\,&quot\; Corinna has advocated for accepting the diverse forms of sexual experience and avoiding &quot\;expertitis.&quot\; Corinna is the author of &ldquo\;s.e.x. the all-you-need-to-know sexuality guide to get you through your teens and twenties.&rdquo\;</span></p>\n\n<p><span style="background-color:transparent\; color:rgb(0\, 0\, 0)\; font-family:arial\; font-size:11pt">Workshop: &ldquo\;Sex Ed for the Real World&rdquo\; on Friday\, Nov. 8\, time and location will be posted at a later date.</span></p>\n\n<div>&nbsp\;</div>\n
LOCATION:Denison University Burton D. Morgan Center Room 115 150 Ridge Road
UID:e.180.12709
SEQUENCE:3
DTSTAMP:20260422T144457Z
URL:http://business.granvilleoh.com/events/details/laura-c-harris-series-welcomes-heather-corinna-and-hanne-blank-12709
END:VEVENT

END:VCALENDAR
