BEGIN:VCALENDAR
VERSION:2.0
PRODID:-//ChamberMaster//Event Calendar 2.0//EN
METHOD:PUBLISH
X-PUBLISHED-TTL:P3D
REFRESH-INTERVAL:P3D
CALSCALE:GREGORIAN
BEGIN:VEVENT
DTSTART:20190926T230000Z
DTEND:20190927T000000Z
X-MICROSOFT-CDO-ALLDAYEVENT:FALSE
SUMMARY:Laura C. Harris Series welcomes Shanna Katz Kattari and Leah Lakshmi Piepzna-Samarasinha
DESCRIPTION:Denison University's Laura C. Harris Series welcomes Shanna Katz Kattari and Leah Lakshmi Piepzna-Samarasinha presenting the "Disability and Gender Justice" panel.\n\nKattari is an assistant professor at the University of Michigan School of Social Work and Department of Women's Studies (by courtesy). She is a board-certified sexologist\, sexuality educator\, and social justice advocate. Her research focuses on understanding how power\, privilege and oppression systematically marginalize\, exclude\, and discriminate against people regarding their identities/expressions through negative attitudes\, policies reinforcing oppression\, oppressive actions and isolation. Her work centers on disability/ableism/microaggressions\, and transgender/nonbinary identities and transphobia\, using an intersectional lens.  \n\nPiepzna-Samarasinha is a queer disabled femme writer\, cultural worker and educator of Burgher/Tamil Sri Lankan and Irish/Roma ascent. Piepzna-Samarasinha is the author of "Care Work: Dreaming Disability Justice\," "Dirty River: A Queer Femme of Color Dreaming Her Way Home" (short-listed for the Lambda and Publishing Triangle Awards\, ALA Above the Rainbow List)\, "Bodymap" (short listed for the Publishing Triangle Award)\, "Love Cake" (Lambda Literary Award winner)\, and "Consensual Genocide\," and co-editor of "The Revolution Starts At Home: Confronting Intimate Violence in Activist Communities." Her next two books\, "Tonguebreaker" and "Exploring Transformative Justice: A Reader" (co-edited with Ejeris Dixon) are forthcoming in 2019. A lead artist with Sins Invalid\, her writing has been widely published\, with recent work in PBS Newshour\, Poets.org's Poetry and the Body folio\, The Deaf Poets Society\, Bitch\, Self\, TruthOut and The Body is Not an Apology.  She is a VONA Fellow and holds a Master of Fine Arts from Mills College.
X-ALT-DESC;FMTTYPE=text/html:<p><span style="background-color:transparent\; color:rgb(0\, 0\, 0)\; font-family:arial\; font-size:11pt">Denison University&rsquo\;s Laura C. Harris Series welcomes Shanna Katz Kattari and Leah Lakshmi Piepzna-Samarasinha presenting the &quot\;Disability and Gender Justice&quot\; panel.</span></p>\n\n<p><span style="background-color:transparent\; color:rgb(0\, 0\, 0)\; font-family:arial\; font-size:11pt">Kattari is an assistant professor at the University of Michigan School of Social Work and Department of Women&#39\;s Studies (by courtesy). She is a board-certified sexologist\, sexuality educator\, and social justice advocate. Her research focuses on understanding how power\, privilege and oppression systematically marginalize\, exclude\, and discriminate against people regarding their identities/expressions through negative attitudes\, policies reinforcing oppression\, oppressive actions and isolation. Her work centers on disability/ableism/microaggressions\, and transgender/nonbinary identities and transphobia\, using an intersectional lens.&nbsp\;&nbsp\;</span></p>\n\n<p><span style="background-color:transparent\; color:rgb(0\, 0\, 0)\; font-family:arial\; font-size:11pt">Piepzna-Samarasinha is a queer disabled femme writer\, cultural worker and educator of Burgher/Tamil Sri Lankan and Irish/Roma ascent. Piepzna-Samarasinha is the author of &ldquo\;Care Work: Dreaming Disability Justice\,&rdquo\; &ldquo\;Dirty River: A Queer Femme of Color Dreaming Her Way Home&rdquo\; (short-listed for the Lambda and Publishing Triangle Awards\, ALA Above the Rainbow List)\, &ldquo\;Bodymap&rdquo\; (short listed for the Publishing Triangle Award)\, &ldquo\;Love Cake&rdquo\; (Lambda Literary Award winner)\, and &ldquo\;Consensual Genocide\,&rdquo\; and co-editor of &ldquo\;The Revolution Starts At Home: Confronting Intimate Violence in Activist Communities.&rdquo\; Her next two books\, &ldquo\;Tonguebreaker&rdquo\; and &ldquo\;Exploring Transformative Justice: A Reader&rdquo\; (co-edited with Ejeris Dixon) are forthcoming in 2019. A lead artist with Sins Invalid\, her writing has been widely published\, with recent work in PBS Newshour\, Poets.org&#39\;s Poetry and the Body folio\, The Deaf Poets Society\, Bitch\, Self\, TruthOut and The Body is Not an Apology.&nbsp\; She is a VONA Fellow and holds a Master of Fine Arts from Mills College.</span></p>\n\n<div>&nbsp\;</div>\n
LOCATION:Denison University Burton D. Morgan Center Room 115 150 Ridge Road
UID:e.180.12708
SEQUENCE:3
DTSTAMP:20260422T115913Z
URL:http://business.granvilleoh.com/events/details/laura-c-harris-series-welcomes-shanna-katz-kattari-and-leah-lakshmi-piepzna-samarasinha-12708
END:VEVENT

END:VCALENDAR
