BEGIN:VCALENDAR
VERSION:2.0
PRODID:-//ChamberMaster//Event Calendar 2.0//EN
METHOD:PUBLISH
X-PUBLISHED-TTL:P3D
REFRESH-INTERVAL:P3D
CALSCALE:GREGORIAN
BEGIN:VEVENT
DTSTART:20180531T220000Z
DTEND:20180601T000000Z
X-MICROSOFT-CDO-ALLDAYEVENT:FALSE
SUMMARY:Learn to Play Dungeons and Dragons
DESCRIPTION:New to the world of Dungeons and Dragons? Learn the basics of the game\, create your character\, and then join us for weekly games on Tuesdays during the summer library program. Rising 7th through 12th graders welcome!
X-ALT-DESC;FMTTYPE=text/html:New to the world of Dungeons and Dragons? Learn the basics of the game\, create your character\, and then join us for weekly games on Tuesdays during the summer library program. Rising 7th through 12th graders welcome!
LOCATION:Granville Public Library
UID:e.180.12003
SEQUENCE:3
DTSTAMP:20260421T100508Z
URL:http://business.granvilleoh.com/events/details/learn-to-play-dungeons-and-dragons-12003
END:VEVENT

END:VCALENDAR
