BEGIN:VCALENDAR
VERSION:2.0
PRODID:-//ChamberMaster//Event Calendar 2.0//EN
METHOD:PUBLISH
X-PUBLISHED-TTL:P3D
REFRESH-INTERVAL:P3D
CALSCALE:GREGORIAN
BEGIN:VEVENT
DTSTART:20190111T223000Z
DTEND:20190112T000000Z
X-MICROSOFT-CDO-ALLDAYEVENT:FALSE
SUMMARY:Learn to Play Magic the Gathering
DESCRIPTION:Jeremy\, from Comic Shop Plus\, will provide cards and teach you how to play Magic the Gathering. Already a Magic aficionado? Come help others learn and have fun playing! For grades 7-12.
X-ALT-DESC;FMTTYPE=text/html:Jeremy\, from Comic Shop Plus\, will provide cards and teach you how to play Magic the Gathering. Already a Magic aficionado? Come help others learn and have fun playing! For grades 7-12.
LOCATION:Granville Public Library
UID:e.180.12285
SEQUENCE:3
DTSTAMP:20260420T005416Z
URL:http://business.granvilleoh.com/events/details/learn-to-play-magic-the-gathering-12285
END:VEVENT

END:VCALENDAR
