BEGIN:VCALENDAR
VERSION:2.0
PRODID:-//ChamberMaster//Event Calendar 2.0//EN
METHOD:PUBLISH
X-PUBLISHED-TTL:P3D
REFRESH-INTERVAL:P3D
CALSCALE:GREGORIAN
BEGIN:VEVENT
DTSTART:20191005T180000Z
DTEND:20191005T184500Z
X-MICROSOFT-CDO-ALLDAYEVENT:FALSE
SUMMARY:Legend of Sleepy Hollow
DESCRIPTION:In this silly and non-scary version of Washington Irving's classic piece of literature\, children of all ages will follow the lanky school master\, Ichabod Crane\, as he sings\, dances\, and falls in love with a giggly\, Katrina Van Tassel. Stevens Puppets tours fully-staged productions of fairy-tales and classic children's literature\, featuring hand-carved wooden marionettes. Families of all ages.
X-ALT-DESC;FMTTYPE=text/html:In this silly and non-scary version of Washington Irving&#39\;s classic piece of literature\, children of all ages will follow the lanky school master\, Ichabod Crane\, as he sings\, dances\, and falls in love with a giggly\, Katrina Van Tassel. Stevens Puppets tours fully-staged productions of fairy-tales and classic children&#39\;s literature\, featuring hand-carved wooden marionettes. Families of all ages.
LOCATION:Granville Public Library
UID:e.180.12830
SEQUENCE:3
DTSTAMP:20260422T131647Z
URL:http://business.granvilleoh.com/events/details/legend-of-sleepy-hollow-12830
END:VEVENT

END:VCALENDAR
