BEGIN:VCALENDAR
VERSION:2.0
PRODID:-//ChamberMaster//Event Calendar 2.0//EN
METHOD:PUBLISH
X-PUBLISHED-TTL:P3D
REFRESH-INTERVAL:P3D
CALSCALE:GREGORIAN
BEGIN:VEVENT
DTSTART:20180614T180000Z
DTEND:20180614T190000Z
X-MICROSOFT-CDO-ALLDAYEVENT:FALSE
SUMMARY:Let's Make Some Noise with Doctah X
DESCRIPTION:In this lively\, interactive program kids will use instruments\, a table sythn\, therimine\, sampler\, and fx to combine music and poetry. (Grades K to 6)
X-ALT-DESC;FMTTYPE=text/html:In this lively\, interactive program kids will use instruments\, a table sythn\, therimine\, sampler\, and fx to combine music and poetry. (Grades K to 6)
LOCATION:Granville Public Library
UID:e.180.11999
SEQUENCE:3
DTSTAMP:20260419T170226Z
URL:http://business.granvilleoh.com/events/details/let-s-make-some-noise-with-doctah-x-11999
END:VEVENT

END:VCALENDAR
