BEGIN:VCALENDAR
VERSION:2.0
PRODID:-//ChamberMaster//Event Calendar 2.0//EN
METHOD:PUBLISH
X-PUBLISHED-TTL:P3D
REFRESH-INTERVAL:P3D
CALSCALE:GREGORIAN
BEGIN:VEVENT
DTSTART:20191117T200000Z
DTEND:20191117T210000Z
X-MICROSOFT-CDO-ALLDAYEVENT:FALSE
SUMMARY:LGBTQ+ Parent Support Group
DESCRIPTION:The Office of Gender & Sexuality at Denison University holds an informal support group for parents of LGBTQ+ youth.\nThe group will provide a space for parents of LGBTQ+ children and adolescents to connect with other parents in the local community. The goal of this meeting is for parents to connect and learn about what kinds of support is needed in our area.
X-ALT-DESC;FMTTYPE=text/html:<span style="background-color:transparent\; color:rgb(0\, 0\, 0)\; font-family:arial\; font-size:11pt">The Office of Gender &amp\; Sexuality at Denison University holds an informal support group for parents of LGBTQ+ youth.</span>\n<p><span style="background-color:transparent\; color:rgb(0\, 0\, 0)\; font-family:arial\; font-size:11pt">The group will provide a space for parents of LGBTQ+ children and adolescents to connect with other parents in the local community. The goal of this meeting is for parents to connect and learn about what kinds of support is needed in our area.&nbsp\;</span></p>\n\n<div>&nbsp\;</div>\n
LOCATION:Denison University All American Room of the Mitchell Athletic Center 200 Livingston Drive
UID:e.180.13974
SEQUENCE:3
DTSTAMP:20260422T144018Z
URL:http://business.granvilleoh.com/events/details/lgbtq-parent-support-group-13974
END:VEVENT

END:VCALENDAR
