BEGIN:VCALENDAR
VERSION:2.0
PRODID:-//ChamberMaster//Event Calendar 2.0//EN
METHOD:PUBLISH
X-PUBLISHED-TTL:P3D
REFRESH-INTERVAL:P3D
CALSCALE:GREGORIAN
BEGIN:VEVENT
DTSTART:20190409T230000Z
DTEND:20190410T000000Z
X-MICROSOFT-CDO-ALLDAYEVENT:FALSE
SUMMARY:Life Local Lecture: LIVE Rock and Roll Podcast: Somebody to Love: The Life\, Death\, and Legacy of Freddie Mercury
DESCRIPTION:Hosted by the Bryn Du Mansion in conjunction with the Granville Public Library. Join us for the Life/Local Lecture presented by the Rock N Roll Book Club and held at the Bryn Du Mansion. Join Mark Dantzer\, Pat Buzzard\, Chuck Johnson and Ryan Smith for a live book discussion about Queen's famous front man. Written by authors Mark Langthorne and Matt Richards\, copies of the book Somebody to Love: The Life\, Death and Legacy of Freddie Mercury are available for pick up from the Granville Public Library.
X-ALT-DESC;FMTTYPE=text/html:Hosted by the Bryn Du Mansion in conjunction with the Granville Public Library. Join us for the Life/Local Lecture presented by the Rock N Roll Book Club and held at the Bryn Du Mansion. Join Mark Dantzer\, Pat Buzzard\, Chuck Johnson and Ryan Smith for a live book discussion about Queen&#39\;s famous front man. Written by authors Mark Langthorne and Matt Richards\, copies of the book Somebody to Love: The Life\, Death and Legacy of Freddie Mercury are available for pick up from the Granville Public Library.
LOCATION:Granville Public Library
UID:e.180.12551
SEQUENCE:3
DTSTAMP:20260420T051320Z
URL:http://business.granvilleoh.com/events/details/life-local-lecture-live-rock-and-roll-podcast-somebody-to-love-the-life-death-and-legacy-of-freddie-mercury-12551
END:VEVENT

END:VCALENDAR
