BEGIN:VCALENDAR
VERSION:2.0
PRODID:-//ChamberMaster//Event Calendar 2.0//EN
METHOD:PUBLISH
X-PUBLISHED-TTL:P3D
REFRESH-INTERVAL:P3D
CALSCALE:GREGORIAN
BEGIN:VEVENT
DTSTART:20180407T180000Z
DTEND:20180407T190000Z
X-MICROSOFT-CDO-ALLDAYEVENT:FALSE
SUMMARY:Make Your Own Puzzle
DESCRIPTION:Paint a picture on a pre-cut puzzle and take it home. Grades K-6
X-ALT-DESC;FMTTYPE=text/html:Paint a picture on a pre-cut puzzle and take it home. Grades K-6
LOCATION:Granville Public Library
UID:e.180.11864
SEQUENCE:3
DTSTAMP:20260421T083533Z
URL:http://business.granvilleoh.com/events/details/make-your-own-puzzle-11864
END:VEVENT

END:VCALENDAR
