BEGIN:VCALENDAR
VERSION:2.0
PRODID:-//ChamberMaster//Event Calendar 2.0//EN
METHOD:PUBLISH
X-PUBLISHED-TTL:P3D
REFRESH-INTERVAL:P3D
CALSCALE:GREGORIAN
BEGIN:VEVENT
DTSTART:20191001T213000Z
DTEND:20191001T223000Z
X-MICROSOFT-CDO-ALLDAYEVENT:FALSE
SUMMARY:Medicare 101
DESCRIPTION:Are you turning 65\, know someone who is or already on Medicare and confused. This is for you! Learn and understand Medicare. We will review the ABC's of Medicare. This is a casual hour of fun and learning.
X-ALT-DESC;FMTTYPE=text/html:Are you turning 65\, know someone who is or already on Medicare and confused. This is for you! Learn and understand Medicare. We will review the ABC&rsquo\;s of Medicare. This is a casual hour of fun and learning.
LOCATION:1400 Tharp Rd. Alexandria\, OH 43001
UID:e.180.12759
SEQUENCE:3
DTSTAMP:20260422T131355Z
URL:http://business.granvilleoh.com/events/details/medicare-101-10-01-2019-12759
END:VEVENT

END:VCALENDAR
