BEGIN:VCALENDAR
VERSION:2.0
PRODID:-//ChamberMaster//Event Calendar 2.0//EN
METHOD:PUBLISH
X-PUBLISHED-TTL:P3D
REFRESH-INTERVAL:P3D
CALSCALE:GREGORIAN
BEGIN:VEVENT
DTSTART:20180725T210000Z
DTEND:20180725T230000Z
X-MICROSOFT-CDO-ALLDAYEVENT:FALSE
SUMMARY:Meet\, Eat and a little Adventure! - Business After Hours at the Granville Senior Center
DESCRIPTION:Meet\, Eat and a little Adventure with fellow GACC members and guests at our July Business After Hours Summer BBQ Picnic with beer and wine followed by an acrylic dump painting adventure in our NEW Art Studio at the Granville Senior Center.  Special added attraction...live music provided by Sam Dodd of Big Bad Stache.  Don't miss this!  Please bring a friend!
X-ALT-DESC;FMTTYPE=text/html:<strong>Meet\, Eat and a little Adventure</strong> with fellow GACC members and guests at our July Business After Hours Summer BBQ Picnic with beer and wine followed by an acrylic dump painting adventure in our NEW Art Studio at the Granville Senior Center.&nbsp\; Special added attraction...live music provided by Sam Dodd of Big Bad Stache.&nbsp\; Don&#39\;t miss this!&nbsp\; Please bring a friend!
LOCATION:Granville Senior Center 3825 Columbus Road\, Building D Granville\, OH 43023 (Note: We are in the same building as TAD Sports)
UID:e.180.11977
SEQUENCE:3
DTSTAMP:20260419T171414Z
URL:http://business.granvilleoh.com/events/details/meet-eat-and-a-little-adventure-business-after-hours-at-the-granville-senior-center-11977
END:VEVENT

END:VCALENDAR
