BEGIN:VCALENDAR
VERSION:2.0
PRODID:-//ChamberMaster//Event Calendar 2.0//EN
METHOD:PUBLISH
X-PUBLISHED-TTL:P3D
REFRESH-INTERVAL:P3D
CALSCALE:GREGORIAN
BEGIN:VEVENT
DTSTART:20181017T153000Z
DTEND:20181017T170000Z
X-MICROSOFT-CDO-ALLDAYEVENT:FALSE
SUMMARY:Member Meeting & Luncheon
DESCRIPTION:Join us at our October Member Meeting and Luncheon at the Works in dowtown Newark.  Corey Wills of David B. Wills & Associates and Tobin Mann of Mann Legal Services will provide an informative presentation on recent tax law changes and resulting impacts on small businesses.  Don't miss this chance to be updated and informed before year-end is upon us!
X-ALT-DESC;FMTTYPE=text/html:Join us at our October Member Meeting and Luncheon at the Works in dowtown Newark.&nbsp\; Corey Wills of David B. Wills &amp\; Associates and Tobin Mann of Mann Legal Services will provide an informative presentation on recent tax law changes and resulting impacts on small businesses.&nbsp\; Don&#39\;t miss this chance to be updated and informed before year-end is upon us!&nbsp\;
LOCATION:The Works 55 S. 1st Street Newark\, OH 43055
UID:e.180.12171
SEQUENCE:3
DTSTAMP:20260419T210838Z
URL:http://business.granvilleoh.com/events/details/member-meeting-luncheon-12171
END:VEVENT

END:VCALENDAR
