BEGIN:VCALENDAR
VERSION:2.0
PRODID:-//ChamberMaster//Event Calendar 2.0//EN
METHOD:PUBLISH
X-PUBLISHED-TTL:P3D
REFRESH-INTERVAL:P3D
CALSCALE:GREGORIAN
BEGIN:VEVENT
DTSTART:20190821T153000Z
DTEND:20190821T170000Z
X-MICROSOFT-CDO-ALLDAYEVENT:FALSE
SUMMARY:Member Meeting & Luncheon
DESCRIPTION:Join us for a highly informative presentation about the future vision for economic development in central Ohio by Patty Huddle\, Senior VP of Economic Development for Columbus 2020.  Patty has worked in economic development for 21 years within a variety of environments\, from departments of one to organizations with large teams. She has in-depth technical economic development program expertise and understanding of local and state government and other public structures.\n\n\n\nPatty's blend of private and public sector experience provides unique motivation\, insights and understanding of the perspectives around the table when companies are planning to expand.
X-ALT-DESC;FMTTYPE=text/html:Join us for a highly informative presentation about the future vision for economic development in central Ohio by Patty Huddle\, Senior VP of Economic Development for Columbus 2020.&nbsp\; Patty has worked in economic development for 21 years within a variety of environments\, from departments of one to organizations with large teams. She has in-depth technical economic development program expertise and understanding of local and state government and other public structures.<br />\n<br />\nPatty&#39\;s blend of private and public sector experience provides unique motivation\, insights and understanding of the perspectives around the table when companies are planning to expand.
LOCATION:Bryn Du Mansion 537 Jones Road Granville\, OH 43023
UID:e.180.12767
SEQUENCE:3
DTSTAMP:20260422T102702Z
URL:http://business.granvilleoh.com/events/details/member-meeting-luncheon-12767
END:VEVENT

END:VCALENDAR
