BEGIN:VCALENDAR
VERSION:2.0
PRODID:-//ChamberMaster//Event Calendar 2.0//EN
METHOD:PUBLISH
X-PUBLISHED-TTL:P3D
REFRESH-INTERVAL:P3D
CALSCALE:GREGORIAN
BEGIN:VEVENT
DTSTART:20181114T160000Z
DTEND:20181114T183000Z
X-MICROSOFT-CDO-ALLDAYEVENT:FALSE
SUMMARY:Member Meeting & Luncheon - a Community Resources 'Expo'
DESCRIPTION:This month we are hosting a Community Resources 'Expo' showcasing twelve local organizations that benefit our community significantly.  We'll start a   hour early (11:00 am) and run a   hour longer (1:30 pm) so you can check out exhibitor displays and hear what these organizations have to offer.  Come learn more about available resources and what your fellow Chamber members have to offer!
X-ALT-DESC;FMTTYPE=text/html:This month we are hosting a Community Resources &lsquo\;Expo&rsquo\; showcasing twelve local organizations that benefit our community significantly.&nbsp\; We&rsquo\;ll start a &frac12\; hour early (11:00 am) and run a &frac12\; hour longer (1:30 pm) so you can check out exhibitor displays and hear what these organizations have to offer.&nbsp\; Come learn more about available resources and what your fellow Chamber members have to offer!
LOCATION:Bryn Du Mansion Fieldhouse 537 Jones Road Granville\, OH 43023
UID:e.180.12207
SEQUENCE:3
DTSTAMP:20260419T222301Z
URL:http://business.granvilleoh.com/events/details/member-meeting-luncheon-a-community-resources-expo-12207
END:VEVENT

END:VCALENDAR
