BEGIN:VCALENDAR
VERSION:2.0
PRODID:-//ChamberMaster//Event Calendar 2.0//EN
METHOD:PUBLISH
X-PUBLISHED-TTL:P3D
REFRESH-INTERVAL:P3D
CALSCALE:GREGORIAN
BEGIN:VEVENT
DTSTART:20250115T163000Z
DTEND:20250115T180000Z
X-MICROSOFT-CDO-ALLDAYEVENT:FALSE
SUMMARY:Member Meeting & Luncheon: State of the Chamber Presentation
DESCRIPTION:Please join us for our January member meeting and Luncheon during which we will provide our annual :"State of the Chamber" talk which will recap elements of the year 2024 and provide overview and insight into plans and objectives for 2025. With appreciation to our host\, DoubleTree Hotel for catering today's meal. Please RSVP by Monday\, January 13th.
X-ALT-DESC;FMTTYPE=text/html:Please join us for our January member meeting and Luncheon during which we will provide our annual :&quot\;State of the Chamber&quot\; talk which will recap elements of the year 2024 and provide overview and insight into plans and objectives for 2025. With appreciation to our host\, DoubleTree Hotel for catering today&#39\;s meal. Please RSVP by Monday\, January 13th.
LOCATION:DoubleTree by Hilton 50 North 2nd St. Newark\, Oh 43055
UID:e.180.18028
SEQUENCE:3
DTSTAMP:20260423T231419Z
URL:http://business.granvilleoh.com/events/details/member-meeting-luncheon-state-of-the-chamber-presentation-18028
END:VEVENT

END:VCALENDAR
