BEGIN:VCALENDAR
VERSION:2.0
PRODID:-//ChamberMaster//Event Calendar 2.0//EN
METHOD:PUBLISH
X-PUBLISHED-TTL:P3D
REFRESH-INTERVAL:P3D
CALSCALE:GREGORIAN
BEGIN:VEVENT
DTSTART:20180608T233000Z
DTEND:20180609T003000Z
X-MICROSOFT-CDO-ALLDAYEVENT:FALSE
SUMMARY:Middle School Capture the Flag
DESCRIPTION:Get into the groove of summer with a night of Capture-the-Flag at Infirmary Mound Park. A Parental Release is required to participate. Forms are available to pick up at the Granville Public Library or may be filled out by the parent at the event. Rising 7th through 8th graders welcome! Brought to you by the Granville Public Library\, the Licking Park District and the Granville Recreation District.
X-ALT-DESC;FMTTYPE=text/html:Get into the groove of summer with a night of Capture-the-Flag at Infirmary Mound Park. A Parental Release is required to participate. Forms are available to pick up at the Granville Public Library or may be filled out by the parent at the event. Rising 7th through 8th graders welcome! Brought to you by the Granville Public Library\, the Licking Park District and the Granville Recreation District.
LOCATION:Infirmary Mound Park
UID:e.180.11987
SEQUENCE:3
DTSTAMP:20260419T153151Z
URL:http://business.granvilleoh.com/events/details/middle-school-capture-the-flag-11987
END:VEVENT

END:VCALENDAR
