BEGIN:VCALENDAR
VERSION:2.0
PRODID:-//ChamberMaster//Event Calendar 2.0//EN
METHOD:PUBLISH
X-PUBLISHED-TTL:P3D
REFRESH-INTERVAL:P3D
CALSCALE:GREGORIAN
BEGIN:VEVENT
DTSTART:20190330T000000Z
DTEND:20190330T010000Z
X-MICROSOFT-CDO-ALLDAYEVENT:FALSE
SUMMARY:Molly Shanahan/Mad Shak’s 'Of Whales\, Time\, and Your Last Attempt to Reach Me' evening-length dance performance
DESCRIPTION:Denison University's Department of Dance welcomes Denison Alum Molly Shanahan presenting "Of Whales\, Time\, and Your Last Attempt to Reach Me\," a performance from her dance company Molly Shanahan/Mad Shak.
X-ALT-DESC;FMTTYPE=text/html:<span style="background-color:transparent\; color:rgb(0\, 0\, 0)\; font-family:arial\; font-size:11pt">Denison University&rsquo\;s Department of Dance welcomes Denison Alum Molly Shanahan presenting &ldquo\;Of Whales\, Time\, and Your Last Attempt to Reach Me\,&rdquo\; </span><span style="color:rgb(34\, 34\, 34)\; font-family:arial\,helvetica\,sans-serif\; font-size:small">a performance from her dance company Molly Shanahan/Mad Shak.</span>
LOCATION:Denison University Doane Dance Building 231 West College Street
UID:e.180.12520
SEQUENCE:3
DTSTAMP:20260420T051241Z
URL:http://business.granvilleoh.com/events/details/molly-shanahan-mad-shak-s-of-whales-time-and-your-last-attempt-to-reach-me-evening-length-dance-performance-12520
END:VEVENT

END:VCALENDAR
