BEGIN:VCALENDAR
VERSION:2.0
PRODID:-//ChamberMaster//Event Calendar 2.0//EN
METHOD:PUBLISH
X-PUBLISHED-TTL:P3D
REFRESH-INTERVAL:P3D
CALSCALE:GREGORIAN
BEGIN:VEVENT
DTSTART:20181115T230000Z
DTEND:20181116T010000Z
X-MICROSOFT-CDO-ALLDAYEVENT:FALSE
SUMMARY:Month-long Hogwarts Lego Build
DESCRIPTION:Grades 7-Adult are invited to help build the 2018 edition of the Hogwarts castle (6\,020 pieces!). The finished product will be on display at the library's 10th Annual Train Show.
X-ALT-DESC;FMTTYPE=text/html:Grades 7-Adult are invited to help build the 2018 edition of the Hogwarts castle (6\,020 pieces!). The finished product will be on display at the library&#39\;s 10th Annual Train Show.
LOCATION:Granville Public Library
UID:e.180.12189
SEQUENCE:3
DTSTAMP:20260419T222755Z
URL:http://business.granvilleoh.com/events/details/month-long-hogwarts-lego-build-11-15-2018-12189
END:VEVENT

END:VCALENDAR
