BEGIN:VCALENDAR
VERSION:2.0
PRODID:-//ChamberMaster//Event Calendar 2.0//EN
METHOD:PUBLISH
X-PUBLISHED-TTL:P3D
REFRESH-INTERVAL:P3D
CALSCALE:GREGORIAN
BEGIN:VEVENT
DTSTART:20180516T153000Z
DTEND:20180516T170000Z
X-MICROSOFT-CDO-ALLDAYEVENT:FALSE
SUMMARY:Monthly Member Meeting & Luncheon
DESCRIPTION:Join us for our May Membership Meeting and Luncheon.  We'll hear a presentation on How to Make Online Marketing Work For You by a team from RevLocal - our hosts for this session.  You'll come away more knowledgeable\, well fed\, and better connected.  That's a win-win-win!
X-ALT-DESC;FMTTYPE=text/html:Join us for our May Membership Meeting and Luncheon.&nbsp\; We&#39\;ll hear a presentation on How to Make Online&nbsp\;Marketing Work For You by a team from RevLocal - our hosts for this session.&nbsp\; You&#39\;ll come away more&nbsp\;knowledgeable\, well fed\, and better connected.&nbsp\; That&#39\;s a win-win-win!
LOCATION:RevLocal 4009 Columbus Rd Granville\, OH 43023
UID:e.180.11944
SEQUENCE:3
DTSTAMP:20260421T095004Z
URL:http://business.granvilleoh.com/events/details/monthly-member-meeting-luncheon-11944
END:VEVENT

END:VCALENDAR
