BEGIN:VCALENDAR
VERSION:2.0
PRODID:-//ChamberMaster//Event Calendar 2.0//EN
METHOD:PUBLISH
X-PUBLISHED-TTL:P3D
REFRESH-INTERVAL:P3D
CALSCALE:GREGORIAN
BEGIN:VEVENT
DTSTART:20180620T153000Z
DTEND:20180620T170000Z
X-MICROSOFT-CDO-ALLDAYEVENT:FALSE
SUMMARY:Monthly Member Meeting & Luncheon
DESCRIPTION:Join us for a special joint Membership Meeting and Luncheon which is open to members of the Licking County Chamber of Commerce as well as the Granville Area Chamber of Commerce.  The Meeting Program will provide a timely HR and Legal Issues Update to members of both Chambers.  Employment Law attorneys David Ball and Tracy Turner of the Rosenberg & Ball law offices will conduct the program and provide guidance on preventive practices to minimize workplace disputes and offer strategies to reduce discrimination\, harassment\, and related claims and lawsuits.  Licking County Human Resource Management Association members are encouraged to attend and 1 HRCI and SHRM Re-certification hour will be offered to those professionals in attendance.
X-ALT-DESC;FMTTYPE=text/html:<span style="font-family:arial\;"><span style="font-size:14px\;">Join us for a special joint Membership Meeting and Luncheon which is open to members of the Licking County Chamber of Commerce as well as the Granville Area Chamber of Commerce.&nbsp\; The Meeting Program will provide a timely HR and Legal Issues Update to members of both Chambers.&nbsp\; Employment Law attorneys David Ball and Tracy Turner of the Rosenberg &amp\; Ball law offices will conduct the program and provide guidance on preventive practices to minimize workplace disputes and offer strategies to reduce discrimination\, harassment\, and related claims and lawsuits.&nbsp\;&nbsp\;Licking County Human Resource Management Association members are encouraged to attend and&nbsp\;1 HRCI and SHRM Re-certification hour will be offered to those professionals in attendance.&nbsp\;</span></span>
LOCATION:DoubleTree by Hilton Newark\, Ohio 50 N. 2nd St. Newark\, OH 43055
UID:e.180.11945
SEQUENCE:3
DTSTAMP:20260419T153410Z
URL:http://business.granvilleoh.com/events/details/monthly-member-meeting-luncheon-11945
END:VEVENT

END:VCALENDAR
