BEGIN:VCALENDAR
VERSION:2.0
PRODID:-//ChamberMaster//Event Calendar 2.0//EN
METHOD:PUBLISH
X-PUBLISHED-TTL:P3D
REFRESH-INTERVAL:P3D
CALSCALE:GREGORIAN
BEGIN:VEVENT
DTSTART:20180718T153000Z
DTEND:20180718T170000Z
X-MICROSOFT-CDO-ALLDAYEVENT:FALSE
SUMMARY:Monthly Member Meeting & Luncheon
DESCRIPTION:Join us for a congenial lunch on the Denison University campus.  We'll gather in the Provost's Dining Room in the Curtis Dining Hall.  We will hear a presentation on "Accepting Credit Cards in your business is NOT one size fits all" from Bill and Amy Treciak founders and owners of Electronic Data Payment Systems (EDPS) which is based right here in Granville.  Come learn what you need to know about the everchanging payment processing system landscape.
X-ALT-DESC;FMTTYPE=text/html:Join us for a congenial lunch on the Denison University campus.&nbsp\; We&#39\;ll gather in the Provost&#39\;s Dining Room in the Curtis Dining Hall.&nbsp\; We will hear a presentation on &quot\;Accepting Credit Cards in your business is NOT one size fits all&quot\; from Bill and Amy Treciak founders and owners of Electronic Data Payment Systems (EDPS) which is based right here in Granville.&nbsp\; Come learn what you need to know about the everchanging payment processing system landscape.
LOCATION:Denison University Curtis Dining Hall Provost's Dining Room
UID:e.180.11946
SEQUENCE:3
DTSTAMP:20260419T171148Z
URL:http://business.granvilleoh.com/events/details/monthly-member-meeting-luncheon-11946
END:VEVENT

END:VCALENDAR
