BEGIN:VCALENDAR
VERSION:2.0
PRODID:-//ChamberMaster//Event Calendar 2.0//EN
METHOD:PUBLISH
X-PUBLISHED-TTL:P3D
REFRESH-INTERVAL:P3D
CALSCALE:GREGORIAN
BEGIN:VEVENT
DTSTART:20180919T153000Z
DTEND:20180919T170000Z
X-MICROSOFT-CDO-ALLDAYEVENT:FALSE
SUMMARY:Monthly Member Meeting & Luncheon
DESCRIPTION:LinkedIn:  Maximizing LinkedIn's Potential for Your Business\n\nWhat is the best way to utilize LinkedIn to help your business?  Why do I need LinkedIn when I already use Facebook?  How can LinkedIn enhance your business and keep you in touch and connected with your customers and clients?  Join us for an informative session by LinkedIn expert and long-time user Jeff Young who will share his expertise from both a personal and professional perspective.
X-ALT-DESC;FMTTYPE=text/html:<u>LinkedIn:&nbsp\; Maximizing LinkedIn&#39\;s Potential for Your Business</u><br />\nWhat is the best way to utilize LinkedIn to help your business?&nbsp\; Why do I need LinkedIn when I already use Facebook?&nbsp\; How can LinkedIn enhance your business and keep you in touch and connected with your customers and clients?&nbsp\; Join us for an informative session by LinkedIn expert and long-time user Jeff Young who will share his expertise from both a personal and professional perspective.
LOCATION:Middleton Senior Living 1500 Weaver Drive Granville\, OH 43023
UID:e.180.12099
SEQUENCE:3
DTSTAMP:20260419T193554Z
URL:http://business.granvilleoh.com/events/details/monthly-member-meeting-luncheon-12099
END:VEVENT

END:VCALENDAR
