BEGIN:VCALENDAR
VERSION:2.0
PRODID:-//ChamberMaster//Event Calendar 2.0//EN
METHOD:PUBLISH
X-PUBLISHED-TTL:P3D
REFRESH-INTERVAL:P3D
CALSCALE:GREGORIAN
BEGIN:VEVENT
DTSTART:20190220T163000Z
DTEND:20190220T180000Z
X-MICROSOFT-CDO-ALLDAYEVENT:FALSE
SUMMARY:Monthly Member Meeting & Luncheon
DESCRIPTION:Our February Member Meeting & Luncheon will feature a special presentation by Jeff Brown - Granville Schools Superintendent.  Jeff will share insights and perspectives in a talk he calls "Portrait of a Graduate" in which he will expound on the exceptional preparedness of Granville students.  Don't miss this chance to help inform others about how our schools help prepare our children for success.
X-ALT-DESC;FMTTYPE=text/html:Our February Member Meeting &amp\; Luncheon will feature a special presentation by Jeff Brown - Granville Schools Superintendent.&nbsp\; Jeff will share insights and perspectives in a talk he calls &quot\;Portrait of a Graduate&quot\; in which he will expound on the exceptional preparedness of Granville students.&nbsp\; Don&#39\;t miss this chance to help inform others about how our schools help prepare our children for success.
LOCATION:Denison University Huffman Hall - The President's Dining Room
UID:e.180.12406
SEQUENCE:3
DTSTAMP:20260420T022807Z
URL:http://business.granvilleoh.com/events/details/monthly-member-meeting-luncheon-12406
END:VEVENT

END:VCALENDAR
